BEGIN:VCALENDAR
VERSION:2.0
PRODID:-//United Cheers - ECPv6.7.0//NONSGML v1.0//EN
CALSCALE:GREGORIAN
METHOD:PUBLISH
X-WR-CALNAME:United Cheers
X-ORIGINAL-URL:https://unitedcheers.nl
X-WR-CALDESC:Evenementen voor United Cheers
REFRESH-INTERVAL;VALUE=DURATION:PT1H
X-Robots-Tag:noindex
X-PUBLISHED-TTL:PT1H
BEGIN:VTIMEZONE
TZID:UTC
BEGIN:STANDARD
TZOFFSETFROM:+0000
TZOFFSETTO:+0000
TZNAME:UTC
DTSTART:20260101T000000
END:STANDARD
END:VTIMEZONE
BEGIN:VEVENT
DTSTART;VALUE=DATE:20260422
DTEND;VALUE=DATE:20260425
DTSTAMP:20260422T014914
CREATED:20260116T144551Z
LAST-MODIFIED:20260116T144551Z
UID:1118-1776816000-1777075199@unitedcheers.nl
SUMMARY:ICU Junior Wereld- en Wereldkampioenschappen Cheerleading 2026
DESCRIPTION:22-24 ​​april 2026\nOrlando\, VS\nWide World of Sports Complex\nGelegen in Walt Disney World® Resort
URL:https://unitedcheers.nl/agenda/icu-junior-wereld-en-wereldkampioenschappen-cheerleading-2026/
LOCATION:Wide World of Sports Complex\, United States
CATEGORIES:Showteam
END:VEVENT
END:VCALENDAR