BEGIN:VCALENDAR
VERSION:2.0
PRODID:-//United Cheers - ECPv6.7.0//NONSGML v1.0//EN
CALSCALE:GREGORIAN
METHOD:PUBLISH
X-ORIGINAL-URL:https://unitedcheers.nl
X-WR-CALDESC:Evenementen voor United Cheers
REFRESH-INTERVAL;VALUE=DURATION:PT1H
X-Robots-Tag:noindex
X-PUBLISHED-TTL:PT1H
BEGIN:VTIMEZONE
TZID:UTC
BEGIN:STANDARD
TZOFFSETFROM:+0000
TZOFFSETTO:+0000
TZNAME:UTC
DTSTART:20240101T000000
END:STANDARD
END:VTIMEZONE
BEGIN:VEVENT
DTSTART;TZID=UTC:20240505T160000
DTEND;TZID=UTC:20240505T160000
DTSTAMP:20260419T182543
CREATED:20240501T191117Z
LAST-MODIFIED:20240501T191829Z
UID:835-1714924800-1714924800@unitedcheers.nl
SUMMARY:Bevrijdingsfestival Zoetermeer
DESCRIPTION:16:00 – 16:10 uur\nMarktplein\, Zoetermeer \nDans jij mee op 5 mei? Wij geven een spectaculair optreden op het Marktplein in Zoetermeer tijdens het middagprogramma van het Bevrijdingsfestival Zoetermeer. Samen met jou vieren wij de vrijheid!
URL:https://unitedcheers.nl/agenda/bevrijdingsfestival-zoetermeer/
CATEGORIES:Jaguars,Panthers,Showteam
END:VEVENT
END:VCALENDAR